BEGIN:VCALENDAR
VERSION:2.0
PRODID:-//Tukios.com/
BEGIN:VEVENT
UID:e6b3529f-4cb1-45ad-b93d-b512f1a1ca98@www.stillingerfamilyfuneralhome.com
DTSTAMP:20260421T210441Z
DTSTART:20260424T200000Z
DTEND:20260425T000000Z
SUMMARY:Visitation
DESCRIPTION:
URL:https://www.stillingerfamilyfuneralhome.com/obituaries/joseph-hofmeister-jr
LOCATION: 11636 E Washington St  Indianapolis IN 46229
GEO:39.7767013;-85.9585943
END:VEVENT
END:VCALENDAR