BEGIN:VCALENDAR
VERSION:2.0
PRODID:-//Tukios.com/
BEGIN:VEVENT
UID:e3f21582-6a90-4de3-9a63-09fa56ffc052@www.stillingerfamilyfuneralhome.com
DTSTAMP:20260421T211445Z
DTSTART:20260425T150000Z
DTEND:20260425T160000Z
SUMMARY:Funeral Service
DESCRIPTION:
URL:https://www.stillingerfamilyfuneralhome.com/obituaries/joseph-hofmeister-jr
LOCATION:St Simon the Apostle Church 8155 Oaklandon Rd  Indianapolis IN 
	46236
GEO:39.9049562;-85.9551581
END:VEVENT
END:VCALENDAR