BEGIN:VCALENDAR
VERSION:2.0
PRODID:-//Tukios.com/
BEGIN:VEVENT
UID:a416f436-e971-4b74-a11e-ad459539c94c@www.stillingerfamilyfuneralhome.com
DTSTAMP:20260421T070843Z
DTSTART:20260423T140000Z
DTEND:20260423T160000Z
SUMMARY:Visitation
DESCRIPTION:
URL:https://www.stillingerfamilyfuneralhome.com/obituaries/loretta-nulliner
LOCATION:Stillinger Family Funeral Home, Hendryx New Palestine Chapel 19 
	East Main Street  New Palestine IN 46163
GEO:39.7204889;-85.8884962
END:VEVENT
END:VCALENDAR