BEGIN:VCALENDAR
VERSION:2.0
PRODID:-//Tukios.com/
BEGIN:VEVENT
UID:f83d7981-d015-4990-b70a-aec5d4953ec5@www.stillingerfamilyfuneralhome.com
DTSTAMP:20260421T071008Z
DTSTART:20260423T160000Z
DTEND:20260423T170000Z
SUMMARY:Funeral Service
DESCRIPTION:
URL:https://www.stillingerfamilyfuneralhome.com/obituaries/loretta-nulliner
LOCATION:Stillinger Family Funeral Home, Hendryx New Palestine Chapel 19 
	East Main Street  New Palestine IN 46163
GEO:39.7204889;-85.8884962
END:VEVENT
END:VCALENDAR